BEGIN:VCALENDAR
VERSION:2.0
PRODID:Events Booking
BEGIN:VEVENT
UID:69e884de2277a
SUMMARY:Guild Gallery Spring Exhibit: Awakening
DESCRIPTION:
 EXHIBIT: Awakening\,&nbsp\;&nbsp\;Spring Guild Membership Ex
 hibit DATE/TIME: Opening Reception - Sunday April 26 from 3-5pmLOCATION: G
 uild Gallery\, 24353 Redwood Hwy. Kerby\, OR 97523
 
 
 The Guild invit
 es you to join us on Sunday April 26 from 3-5pm at the Guild Gallery for t
 he FREE opening reception for&nbsp\;Awakening. This spring exhibit feature
 s varied artwork from current Guild Members. Enjoy live jazz music from Te
 rry D. Davis\, light appetizers and refreshments. Listen in to hear from p
 articipating artists about their artwork and how it relates to this show's
  theme.&nbsp\;Awakening will be on display through July 11\, 2026. The Gui
 ld Gallery &amp\; Art Center is located at 24353 Redwood Highway\, Kerby O
 R 97531 and currently open to the public from 11am-5pm Tuesday-Saturday.&n
 bsp\;Featured Artwork:&nbsp\;Allium Dance\, acrylic on canvas by Becca Far
 mer.
 
 
 
LOCATION:24353 Redwood Highway\, Kerby\, OR 97531\, USA
DTSTART:20260426T220000Z
DTEND:20260427T000000Z
DTSTAMP:20260113T041238Z
ORGANIZER;CN=Southern Oregon Guild of Artists & Artisans:MAILTO:guild@south
 ernoregonguild.org
GEO:42.194688;-123.649224
X-APPLE-STRUCTURED-LOCATION;VALUE=URI;X-ADDRESS=24353 Redwood Highway\, Ker
 by\, OR 97531\, USA;X-APPLE-RADIUS=72;X-TITLE=Guild Gallery & Art Center:4
 2.194688;-123.649224
END:VEVENT
END:VCALENDAR