BEGIN:VCALENDAR
VERSION:2.0
PRODID:Events Booking
BEGIN:VEVENT
UID:69e5dd9c4d280
SUMMARY:2026 Guild Raffle
DESCRIPTION:FUNDRAISER:&nbsp\;2026 Guild Raffle FundraiserPRIZE: Original&n
 bsp\;3D Acrylic Painting by Sheila MasonDATE:&nbsp\;Raffle Drawing is on S
 aturday December 19\, 2026 at NOON!PRICE: $2/ticket or $10 for 6 or $20 fo
 r 12
 HELP US RAISE $2000 for our art&nbsp\;programs!&nbsp\;Guild artist 
 and local Illinois Valley&nbsp\;esteemed painter\, Sheila Mason\, has grac
 iously donated one of her original 3D acrylic redwood&nbsp\;paintings from
  her personal collection to benefit the Guild! This one-of-a-kind piece va
 lued at $1000 measures 36”L x 24”H x 2”D\, features 3D texture\, and
  would be a beautiful addition to any home\, office\, or place of your cho
 osing. It includes hanging hardware and the artist's signature on the back
 .&nbsp\;The painting can be seen in person&nbsp\;at the Guild Gallery duri
 ng open hours and at&nbsp\;special events. Raffle tickets can be purchased
  online\, via Guild Board Members\, or at the Guild between 11am-5pm Tuesd
 ays-Saturdays. All forms of payment are accepted. The raffle drawing will 
 be held at noon\, December 19\, 2026 before&nbsp\;Christmas. If purchased 
 remotely online via the button below\, we will fill out your desired #&nbs
 p\;of raffle tickets with your name and phone number and place them in our
  raffle jar for you.
LOCATION:24353 Redwood Highway\, Kerby\, OR 97531\, USA
DTSTART:20260403T070000Z
DTEND:20261219T200000Z
DTSTAMP:20241121T081910Z
ORGANIZER;CN=Southern Oregon Guild of Artists & Artisans:MAILTO:guild@south
 ernoregonguild.org
GEO:42.194688;-123.649224
X-APPLE-STRUCTURED-LOCATION;VALUE=URI;X-ADDRESS=24353 Redwood Highway\, Ker
 by\, OR 97531\, USA;X-APPLE-RADIUS=72;X-TITLE=Guild Gallery & Art Center:4
 2.194688;-123.649224
END:VEVENT
END:VCALENDAR