BEGIN:VCALENDAR
VERSION:2.0
PRODID:Events Booking
BEGIN:VEVENT
UID:69e734f1c2ef4
SUMMARY:Needle Felted Fairies of Love Workshop
DESCRIPTION:EVENT: Needle Felted Fairies of Love with Corbin BrashearDATE/T
 IME: Sunday February 23\, 2025 from 12-4pmLOCATION: 24353 Redwood Highway 
 Kerby\, OR 97531PRICE: $60-$85 includes ALL materials needed
 We are exci
 ted to once again host local fiber artist Corbin Brashear of Wild &amp\; W
 ooly Feltworks\, on Sunday February 23 from 12-4PM for a hands-on workshop
 \, Needle Felted Fairies of Love! We will create lusciously colored fairie
 s using a variety of wool and found materials. These whimsical beings are 
 perfect for seasonal decorating and a fun craft to try for the coming wint
 er months. No previous needle felting experience is required! All material
 s are provided and included in the class fee. Corbin Brashear has been lea
 ding fiber workshops and showing her work for the last 15+ years all over 
 Northern California and Oregon. Her work can be viewed at www.wildandwooly
 felt.com.
LOCATION:24353 Redwood Highway\, Kerby\, OR 97531\, USA
DTSTART:20250223T200000Z
DTEND:20250224T000000Z
DTSTAMP:20250128T050313Z
ORGANIZER;CN=Southern Oregon Guild of Artists & Artisans:MAILTO:guild@south
 ernoregonguild.org
GEO:42.194688;-123.649224
X-APPLE-STRUCTURED-LOCATION;VALUE=URI;X-ADDRESS=24353 Redwood Highway\, Ker
 by\, OR 97531\, USA;X-APPLE-RADIUS=72;X-TITLE=Guild Gallery & Art Center:4
 2.194688;-123.649224
END:VEVENT
END:VCALENDAR